BEGIN:VCALENDAR
VERSION:2.0
PRODID:icalendar-ruby
CALSCALE:GREGORIAN
METHOD:PUBLISH
BEGIN:VEVENT
DTSTAMP:20260423T043940Z
UID:228-3943252@tradingford.net
DTSTART:20261021T123000Z
DTEND:20261021T133000Z
CLASS:PUBLIC
CREATED:20260422T213909
DESCRIPTION:Join us each week for our Men’s Bible Study\, led by Roscoe 
 Lilly\, every Wednesday at 8:30 AM in the Fellowship Hall. This is a re
 laxed\, welcoming time for men of all ages to come together\, open God’s
  Word\, and grow in faith and friendship. Whether you’re brand new to Bi
 ble study or have been walking with the Lord for years\, you’ll find enc
 ouragement\, conversation\, and community. Coffee is always ready — brin
 g your Bible and a friend!
LAST-MODIFIED:20260422T213909
LOCATION:
SUMMARY:Men's Bible Study
URL;VALUE=URI:https://tradingford.net/events/mens-bible-study--228/2026-10-
 21
ATTACH;FILENAME=MENS BIBLE STUDY.png;FMTTYPE=image/png:https://dq5pwpg1q8ru
 0.cloudfront.net/2025/10/21/15/34/56/15eea5ae-0a58-49dd-9419-5514e8b6e934/
 MENS%20BIBLE%20STUDY.png
END:VEVENT
END:VCALENDAR
